BEGIN:VCALENDAR
VERSION:2.0
PRODID:-//TCCSA - ECPv5.1.5//NONSGML v1.0//EN
CALSCALE:GREGORIAN
METHOD:PUBLISH
X-WR-CALNAME:TCCSA
X-ORIGINAL-URL:https://tccsa.on.ca
X-WR-CALDESC:Events for TCCSA
BEGIN:VTIMEZONE
TZID:America/New_York
BEGIN:DAYLIGHT
TZOFFSETFROM:-0500
TZOFFSETTO:-0400
TZNAME:EDT
DTSTART:20260308T070000
END:DAYLIGHT
BEGIN:STANDARD
TZOFFSETFROM:-0400
TZOFFSETTO:-0500
TZNAME:EST
DTSTART:20261101T060000
END:STANDARD
END:VTIMEZONE
BEGIN:VEVENT
DTSTART;TZID=America/New_York:20260106T110000
DTEND;TZID=America/New_York:20260106T130000
DTSTAMP:20260421T054656
CREATED:20260107T194932Z
LAST-MODIFIED:20260204T162541Z
UID:29581-1767697200-1767704400@tccsa.on.ca
SUMMARY:Wellness Bites - January 6 to March 31\, 2026
DESCRIPTION:  \n
URL:https://tccsa.on.ca/event/wellness-bites-january-6-to-march-31-2026/2026-01-06/
LOCATION:Aaniin Community Centre\, 5665 14th Ave\, Markham\, ON\, L3S 3K5\, Canada
CATEGORIES:Wellness Services,York Centre
ATTACH;FMTTYPE=image/png:https://tccsa.on.ca/wp-content/uploads/2026/01/1.png
END:VEVENT
END:VCALENDAR