BEGIN:VCALENDAR
VERSION:2.0
PRODID:-//TCCSA - ECPv5.1.5//NONSGML v1.0//EN
CALSCALE:GREGORIAN
METHOD:PUBLISH
X-WR-CALNAME:TCCSA
X-ORIGINAL-URL:https://tccsa.on.ca
X-WR-CALDESC:Events for TCCSA
BEGIN:VTIMEZONE
TZID:America/New_York
BEGIN:DAYLIGHT
TZOFFSETFROM:-0500
TZOFFSETTO:-0400
TZNAME:EDT
DTSTART:20260308T070000
END:DAYLIGHT
BEGIN:STANDARD
TZOFFSETFROM:-0400
TZOFFSETTO:-0500
TZNAME:EST
DTSTART:20261101T060000
END:STANDARD
END:VTIMEZONE
BEGIN:VEVENT
DTSTART;TZID=America/New_York:20260205T094500
DTEND;TZID=America/New_York:20260205T111500
DTSTAMP:20260421T050310
CREATED:20251217T154655Z
LAST-MODIFIED:20251217T154739Z
UID:29393-1770284700-1770290100@tccsa.on.ca
SUMMARY:The Cozy Creator Workshop
DESCRIPTION:  \n
URL:https://tccsa.on.ca/event/the-cozy-creator-workshop/2026-02-05/
LOCATION:Cornell Community Centre\, 3201 Bur Oak Avenue\, Markham\, Ontario\, L6B 0T2\, Canada
CATEGORIES:York Centre
ATTACH;FMTTYPE=image/png:https://tccsa.on.ca/wp-content/uploads/2025/12/1.png
END:VEVENT
END:VCALENDAR