BEGIN:VCALENDAR
VERSION:2.0
PRODID:-//TCCSA - ECPv5.1.5//NONSGML v1.0//EN
CALSCALE:GREGORIAN
METHOD:PUBLISH
X-WR-CALNAME:TCCSA
X-ORIGINAL-URL:https://tccsa.on.ca
X-WR-CALDESC:Events for TCCSA
BEGIN:VTIMEZONE
TZID:America/New_York
BEGIN:DAYLIGHT
TZOFFSETFROM:-0500
TZOFFSETTO:-0400
TZNAME:EDT
DTSTART:20260308T070000
END:DAYLIGHT
BEGIN:STANDARD
TZOFFSETFROM:-0400
TZOFFSETTO:-0500
TZNAME:EST
DTSTART:20261101T060000
END:STANDARD
END:VTIMEZONE
BEGIN:VEVENT
DTSTART;TZID=America/New_York:20260228T103000
DTEND;TZID=America/New_York:20260228T133000
DTSTAMP:20260421T013454
CREATED:20260123T145216Z
LAST-MODIFIED:20260123T145838Z
UID:29853-1772274600-1772285400@tccsa.on.ca
SUMMARY:TCCSA Celebrate the Year of the Horse with Hongkongers
DESCRIPTION: \n
URL:https://tccsa.on.ca/event/tccsa-celebrate-the-year-of-the-horse-with-hongkongers/
LOCATION:Edithvale Community Centre
CATEGORIES:Community Engagement
ATTACH;FMTTYPE=image/png:https://tccsa.on.ca/wp-content/uploads/2026/01/CE-The-year-of-the-Horse-Flyer-1.png
END:VEVENT
END:VCALENDAR