BEGIN:VCALENDAR
VERSION:2.0
PRODID:-//TCCSA - ECPv5.1.5//NONSGML v1.0//EN
CALSCALE:GREGORIAN
METHOD:PUBLISH
X-WR-CALNAME:TCCSA
X-ORIGINAL-URL:https://tccsa.on.ca
X-WR-CALDESC:Events for TCCSA
BEGIN:VTIMEZONE
TZID:America/New_York
BEGIN:DAYLIGHT
TZOFFSETFROM:-0500
TZOFFSETTO:-0400
TZNAME:EDT
DTSTART:20260308T070000
END:DAYLIGHT
BEGIN:STANDARD
TZOFFSETFROM:-0400
TZOFFSETTO:-0500
TZNAME:EST
DTSTART:20261101T060000
END:STANDARD
END:VTIMEZONE
BEGIN:VEVENT
DTSTART;TZID=America/New_York:20260128T140000
DTEND;TZID=America/New_York:20260128T160000
DTSTAMP:20260421T050636
CREATED:20260108T214607Z
LAST-MODIFIED:20260108T214611Z
UID:29671-1769608800-1769616000@tccsa.on.ca
SUMMARY:Tax Benefits Seminar Series for Low-Income Families and Seniors
DESCRIPTION:  \n
URL:https://tccsa.on.ca/event/tax-benefits-seminar-series-for-low-income-families-and-seniors/
LOCATION:Online
CATEGORIES:Toronto Centre
ATTACH;FMTTYPE=image/png:https://tccsa.on.ca/wp-content/uploads/2026/01/2026-01-28_Tax-Benefits-Seminar-Series-for-Low-Income-Families-and-Seniors_EN.png
ORGANIZER;CN="Lisa%20Zhang":MAILTO:lzhang@tccsa.org
END:VEVENT
END:VCALENDAR