BEGIN:VCALENDAR
VERSION:2.0
PRODID:-//TCCSA - ECPv5.1.5//NONSGML v1.0//EN
CALSCALE:GREGORIAN
METHOD:PUBLISH
X-WR-CALNAME:TCCSA
X-ORIGINAL-URL:https://tccsa.on.ca
X-WR-CALDESC:Events for TCCSA
BEGIN:VTIMEZONE
TZID:America/New_York
BEGIN:DAYLIGHT
TZOFFSETFROM:-0500
TZOFFSETTO:-0400
TZNAME:EDT
DTSTART:20260308T070000
END:DAYLIGHT
BEGIN:STANDARD
TZOFFSETFROM:-0400
TZOFFSETTO:-0500
TZNAME:EST
DTSTART:20261101T060000
END:STANDARD
END:VTIMEZONE
BEGIN:VEVENT
DTSTART;TZID=America/New_York:20260211T140000
DTEND;TZID=America/New_York:20260211T160000
DTSTAMP:20260421T042648
CREATED:20260121T154006Z
LAST-MODIFIED:20260121T154006Z
UID:29823-1770818400-1770825600@tccsa.on.ca
SUMMARY:Tax benefits seminar series for low-income families and seniors - Series 2
DESCRIPTION: \n
URL:https://tccsa.on.ca/event/tax-benefits-seminar-series-for-low-income-families-and-seniors-series-2/
LOCATION:Online
CATEGORIES:Online,Toronto Centre
ATTACH;FMTTYPE=image/png:https://tccsa.on.ca/wp-content/uploads/2026/01/2026-02-11Tax-Benefits-Seminar-Series-for-Low-Income-Families-and-Seniors-EN-1.png
ORGANIZER;CN="Lisa%20Zhang":MAILTO:lzhang@tccsa.org
END:VEVENT
END:VCALENDAR