BEGIN:VCALENDAR
VERSION:2.0
PRODID:-//TCCSA - ECPv5.1.5//NONSGML v1.0//EN
CALSCALE:GREGORIAN
METHOD:PUBLISH
X-WR-CALNAME:TCCSA
X-ORIGINAL-URL:https://tccsa.on.ca
X-WR-CALDESC:Events for TCCSA
BEGIN:VTIMEZONE
TZID:America/New_York
BEGIN:DAYLIGHT
TZOFFSETFROM:-0500
TZOFFSETTO:-0400
TZNAME:EDT
DTSTART:20250309T070000
END:DAYLIGHT
BEGIN:STANDARD
TZOFFSETFROM:-0400
TZOFFSETTO:-0500
TZNAME:EST
DTSTART:20251102T060000
END:STANDARD
END:VTIMEZONE
BEGIN:VEVENT
DTSTART;TZID=America/New_York:20250604T153000
DTEND;TZID=America/New_York:20250604T163000
DTSTAMP:20260423T125125
CREATED:20250602T193421Z
LAST-MODIFIED:20250602T193421Z
UID:26550-1749051000-1749054600@tccsa.on.ca
SUMMARY:Summer Volunteer Opportunities
DESCRIPTION: \n
URL:https://tccsa.on.ca/event/summer-volunteer-opportunities/
LOCATION:Online
CATEGORIES:Community Services
END:VEVENT
END:VCALENDAR