BEGIN:VCALENDAR
VERSION:2.0
PRODID:-//TCCSA - ECPv5.1.5//NONSGML v1.0//EN
CALSCALE:GREGORIAN
METHOD:PUBLISH
X-WR-CALNAME:TCCSA
X-ORIGINAL-URL:https://tccsa.on.ca
X-WR-CALDESC:Events for TCCSA
BEGIN:VTIMEZONE
TZID:America/New_York
BEGIN:DAYLIGHT
TZOFFSETFROM:-0500
TZOFFSETTO:-0400
TZNAME:EDT
DTSTART:20230312T070000
END:DAYLIGHT
BEGIN:STANDARD
TZOFFSETFROM:-0400
TZOFFSETTO:-0500
TZNAME:EST
DTSTART:20231105T060000
END:STANDARD
END:VTIMEZONE
BEGIN:VEVENT
DTSTART;TZID=America/New_York:20230223T180000
DTEND;TZID=America/New_York:20230223T190000
DTSTAMP:20260421T150904
CREATED:20230202T185327Z
LAST-MODIFIED:20230223T162406Z
UID:19154-1677175200-1677178800@tccsa.on.ca
SUMMARY:Start Your Career in Canada
DESCRIPTION:Registration Link:  https://docs.google.com/forms/d/e/1FAIpQLSfvakzSu_3HRkjqkeWlqdeM7f4RWXiHDlhoMZ7CIOYC1BiDGw/viewform\n  \n  \n
URL:https://tccsa.on.ca/event/start-your-career-in-canada/2023-02-23/
LOCATION:Online
CATEGORIES:Settlement Services,Ukrainian
END:VEVENT
END:VCALENDAR