BEGIN:VCALENDAR
VERSION:2.0
PRODID:-//TCCSA - ECPv5.1.5//NONSGML v1.0//EN
CALSCALE:GREGORIAN
METHOD:PUBLISH
X-WR-CALNAME:TCCSA
X-ORIGINAL-URL:https://tccsa.on.ca
X-WR-CALDESC:Events for TCCSA
BEGIN:VTIMEZONE
TZID:America/New_York
BEGIN:DAYLIGHT
TZOFFSETFROM:-0500
TZOFFSETTO:-0400
TZNAME:EDT
DTSTART:20260308T070000
END:DAYLIGHT
BEGIN:STANDARD
TZOFFSETFROM:-0400
TZOFFSETTO:-0500
TZNAME:EST
DTSTART:20261101T060000
END:STANDARD
END:VTIMEZONE
BEGIN:VEVENT
DTSTART;TZID=America/New_York:20260502T093000
DTEND;TZID=America/New_York:20260502T150000
DTSTAMP:20260420T202557
CREATED:20260417T184634Z
LAST-MODIFIED:20260417T191357Z
UID:31025-1777714200-1777734000@tccsa.on.ca
SUMMARY:Spring Cherry Blossom Walk - High Park
DESCRIPTION: \n
URL:https://tccsa.on.ca/event/spring-cherry-blossom-walk-high-park/
LOCATION:TCCSA York Centre\, Metro Square\, 3636 Steeles Avenue East\, Unit 213A\, Markham\, Ontario\, L3R 1K9\, Canada
CATEGORIES:Family,Newcomer,Senior,York Centre
ATTACH;FMTTYPE=image/jpeg:https://tccsa.on.ca/wp-content/uploads/2026/04/Cherry-Blossom-Walk-ENG.jpg
ORGANIZER;CN="Sue%20Chan":MAILTO:schan@tccsa.org
END:VEVENT
END:VCALENDAR