BEGIN:VCALENDAR
VERSION:2.0
PRODID:-//TCCSA - ECPv5.1.5//NONSGML v1.0//EN
CALSCALE:GREGORIAN
METHOD:PUBLISH
X-WR-CALNAME:TCCSA
X-ORIGINAL-URL:https://tccsa.on.ca
X-WR-CALDESC:Events for TCCSA
BEGIN:VTIMEZONE
TZID:America/New_York
BEGIN:DAYLIGHT
TZOFFSETFROM:-0500
TZOFFSETTO:-0400
TZNAME:EDT
DTSTART:20250309T070000
END:DAYLIGHT
BEGIN:STANDARD
TZOFFSETFROM:-0400
TZOFFSETTO:-0500
TZNAME:EST
DTSTART:20251102T060000
END:STANDARD
END:VTIMEZONE
BEGIN:VEVENT
DTSTART;TZID=America/New_York:20251126T160000
DTEND;TZID=America/New_York:20251126T170000
DTSTAMP:20260421T123354
CREATED:20251001T202626Z
LAST-MODIFIED:20251107T153929Z
UID:28506-1764172800-1764176400@tccsa.on.ca
SUMMARY:Sing to Connect
DESCRIPTION:  \n
URL:https://tccsa.on.ca/event/sing-to-connect/2025-11-26/
LOCATION:TCCSA York Centre\, Metro Square\, 3636 Steeles Avenue East\, Unit 213A\, Markham\, Ontario\, L3R 1K9\, Canada
CATEGORIES:Community Engagement,Community Services,Youth
ATTACH;FMTTYPE=image/jpeg:https://tccsa.on.ca/wp-content/uploads/2025/10/Sing-To-Connect_K2-Eng-scaled.jpg
ORGANIZER;CN="Woody%20Tse":MAILTO:wtse@tccsa.org
END:VEVENT
END:VCALENDAR