BEGIN:VCALENDAR
VERSION:2.0
PRODID:-//TCCSA - ECPv5.1.5//NONSGML v1.0//EN
CALSCALE:GREGORIAN
METHOD:PUBLISH
X-WR-CALNAME:TCCSA
X-ORIGINAL-URL:https://tccsa.on.ca
X-WR-CALDESC:Events for TCCSA
BEGIN:VTIMEZONE
TZID:America/New_York
BEGIN:DAYLIGHT
TZOFFSETFROM:-0500
TZOFFSETTO:-0400
TZNAME:EDT
DTSTART:20250309T070000
END:DAYLIGHT
BEGIN:STANDARD
TZOFFSETFROM:-0400
TZOFFSETTO:-0500
TZNAME:EST
DTSTART:20251102T060000
END:STANDARD
END:VTIMEZONE
BEGIN:VEVENT
DTSTART;TZID=America/New_York:20250612T133000
DTEND;TZID=America/New_York:20250612T143000
DTSTAMP:20260423T083315
CREATED:20250428T203424Z
LAST-MODIFIED:20250428T203424Z
UID:26388-1749735000-1749738600@tccsa.on.ca
SUMMARY:Seniors' Sunshine Club-Welcome to all Newcomers
DESCRIPTION:  \n  \n \n
URL:https://tccsa.on.ca/event/seniors-sunshine-club-welcome-to-all-newcomers/2025-06-12/
LOCATION:TCCSA Peel Centre\, 720 Burnhamthorpe Road West\, Unit 2\, Mississauga\, Ontario\, L5C 3G1\, Canada
CATEGORIES:Community Services
ORGANIZER;CN="William%20Wang":MAILTO:wwang@tccsa.org
END:VEVENT
END:VCALENDAR