BEGIN:VCALENDAR
VERSION:2.0
PRODID:-//TCCSA - ECPv5.1.5//NONSGML v1.0//EN
CALSCALE:GREGORIAN
METHOD:PUBLISH
X-WR-CALNAME:TCCSA
X-ORIGINAL-URL:https://tccsa.on.ca
X-WR-CALDESC:Events for TCCSA
BEGIN:VTIMEZONE
TZID:America/New_York
BEGIN:DAYLIGHT
TZOFFSETFROM:-0500
TZOFFSETTO:-0400
TZNAME:EDT
DTSTART:20230312T070000
END:DAYLIGHT
BEGIN:STANDARD
TZOFFSETFROM:-0400
TZOFFSETTO:-0500
TZNAME:EST
DTSTART:20231105T060000
END:STANDARD
END:VTIMEZONE
BEGIN:VEVENT
DTSTART;TZID=America/New_York:20230420T103000
DTEND;TZID=America/New_York:20230420T120000
DTSTAMP:20260420T082919
CREATED:20230328T143529Z
LAST-MODIFIED:20230328T145127Z
UID:19703-1681986600-1681992000@tccsa.on.ca
SUMMARY:Second Career & Other Employment Programs
DESCRIPTION: \n
URL:https://tccsa.on.ca/event/second-career-other-employment-programs-2/
LOCATION:TCCSA York Centre\, Metro Square\, 3636 Steeles Avenue East\, Unit 213A\, Markham\, Ontario\, L3R 1K9\, Canada
CATEGORIES:Settlement Services
ORGANIZER;CN="Charlie%20Tsau":MAILTO:ctsau@tccsa.org
END:VEVENT
END:VCALENDAR