BEGIN:VCALENDAR
VERSION:2.0
PRODID:-//TCCSA - ECPv5.1.5//NONSGML v1.0//EN
CALSCALE:GREGORIAN
METHOD:PUBLISH
X-WR-CALNAME:TCCSA
X-ORIGINAL-URL:https://tccsa.on.ca
X-WR-CALDESC:Events for TCCSA
BEGIN:VTIMEZONE
TZID:America/New_York
BEGIN:DAYLIGHT
TZOFFSETFROM:-0500
TZOFFSETTO:-0400
TZNAME:EDT
DTSTART:20260308T070000
END:DAYLIGHT
BEGIN:STANDARD
TZOFFSETFROM:-0400
TZOFFSETTO:-0500
TZNAME:EST
DTSTART:20261101T060000
END:STANDARD
END:VTIMEZONE
BEGIN:VEVENT
DTSTART;TZID=America/New_York:20260205T110000
DTEND;TZID=America/New_York:20260205T123000
DTSTAMP:20260421T050410
CREATED:20260123T193655Z
LAST-MODIFIED:20260123T193655Z
UID:29884-1770289200-1770294600@tccsa.on.ca
SUMMARY:Relieve muscle pain with tuina
DESCRIPTION: \n
URL:https://tccsa.on.ca/event/relieve-muscle-pain-with-tuina/
LOCATION:TCCSA Toronto Centre\, 247 Spadina Ave\, 4th Floor\, Toronto\, Ontario\, M5T 3A8\, Canada
CATEGORIES:Toronto Centre
ATTACH;FMTTYPE=image/png:https://tccsa.on.ca/wp-content/uploads/2026/01/Relieve-Muscle-Pain-With-Tuina-EN.png
ORGANIZER;CN="Lynn%20Do":MAILTO:ldo@tccsa.org
END:VEVENT
END:VCALENDAR