BEGIN:VCALENDAR
VERSION:2.0
PRODID:-//TCCSA - ECPv5.1.5//NONSGML v1.0//EN
CALSCALE:GREGORIAN
METHOD:PUBLISH
X-WR-CALNAME:TCCSA
X-ORIGINAL-URL:https://tccsa.on.ca
X-WR-CALDESC:Events for TCCSA
BEGIN:VTIMEZONE
TZID:America/New_York
BEGIN:DAYLIGHT
TZOFFSETFROM:-0500
TZOFFSETTO:-0400
TZNAME:EDT
DTSTART:20250309T070000
END:DAYLIGHT
BEGIN:STANDARD
TZOFFSETFROM:-0400
TZOFFSETTO:-0500
TZNAME:EST
DTSTART:20251102T060000
END:STANDARD
END:VTIMEZONE
BEGIN:VEVENT
DTSTART;TZID=America/New_York:20250719T100000
DTEND;TZID=America/New_York:20250719T113000
DTSTAMP:20260423T160400
CREATED:20250701T030350Z
LAST-MODIFIED:20250701T030350Z
UID:26686-1752919200-1752924600@tccsa.on.ca
SUMMARY:Programs and Benefits For Children
DESCRIPTION: \n  \n \n
URL:https://tccsa.on.ca/event/programs-and-benefits-for-children/
LOCATION:Online
CATEGORIES:Community Services
ORGANIZER;CN="Yoshie%20Ikebe":MAILTO:yikebe@tccsa.org
END:VEVENT
END:VCALENDAR