BEGIN:VCALENDAR
VERSION:2.0
PRODID:-//TCCSA - ECPv5.1.5//NONSGML v1.0//EN
CALSCALE:GREGORIAN
METHOD:PUBLISH
X-WR-CALNAME:TCCSA
X-ORIGINAL-URL:https://tccsa.on.ca
X-WR-CALDESC:Events for TCCSA
BEGIN:VTIMEZONE
TZID:America/New_York
BEGIN:DAYLIGHT
TZOFFSETFROM:-0500
TZOFFSETTO:-0400
TZNAME:EDT
DTSTART:20230312T070000
END:DAYLIGHT
BEGIN:STANDARD
TZOFFSETFROM:-0400
TZOFFSETTO:-0500
TZNAME:EST
DTSTART:20231105T060000
END:STANDARD
END:VTIMEZONE
BEGIN:VEVENT
DTSTART;TZID=America/New_York:20230314T100000
DTEND;TZID=America/New_York:20230314T113000
DTSTAMP:20260421T103237
CREATED:20230227T201031Z
LAST-MODIFIED:20230227T201105Z
UID:19319-1678788000-1678793400@tccsa.on.ca
SUMMARY:Pastel Nagomi Art - Beginner Worshop
DESCRIPTION:Registration Link:  https://docs.google.com/forms/d/e/1FAIpQLSefy6GY99kv9gIPIpk-lPKOd9C7TNTJvPqjZV0WvNyoDCP02g/viewform?usp=sf_link\n \n \n
URL:https://tccsa.on.ca/event/pastel-nagomi-art-beginner-worshop/2023-03-14/
LOCATION:TCCSA York Centre\, Metro Square\, 3636 Steeles Avenue East\, Unit 213A\, Markham\, Ontario\, L3R 1K9\, Canada
CATEGORIES:Wellness Services
END:VEVENT
END:VCALENDAR