BEGIN:VCALENDAR
VERSION:2.0
PRODID:-//TCCSA - ECPv5.1.5//NONSGML v1.0//EN
CALSCALE:GREGORIAN
METHOD:PUBLISH
X-WR-CALNAME:TCCSA
X-ORIGINAL-URL:https://tccsa.on.ca
X-WR-CALDESC:Events for TCCSA
BEGIN:VTIMEZONE
TZID:America/New_York
BEGIN:DAYLIGHT
TZOFFSETFROM:-0500
TZOFFSETTO:-0400
TZNAME:EDT
DTSTART:20260308T070000
END:DAYLIGHT
BEGIN:STANDARD
TZOFFSETFROM:-0400
TZOFFSETTO:-0500
TZNAME:EST
DTSTART:20261101T060000
END:STANDARD
END:VTIMEZONE
BEGIN:VEVENT
DTSTART;TZID=America/New_York:20260130T093000
DTEND;TZID=America/New_York:20260130T140000
DTSTAMP:20260421T034613
CREATED:20260123T165454Z
LAST-MODIFIED:20260123T165747Z
UID:29856-1769765400-1769781600@tccsa.on.ca
SUMMARY:PA Day Family Learning & Fun Day
DESCRIPTION: \n
URL:https://tccsa.on.ca/event/pa-day0130/
LOCATION:TCCSA York Centre\, Metro Square\, 3636 Steeles Avenue East\, Unit 213A\, Markham\, Ontario\, L3R 1K9\, Canada
CATEGORIES:Wellness Services,York Centre
ATTACH;FMTTYPE=image/png:https://tccsa.on.ca/wp-content/uploads/2026/01/Flyer-PA-Day-Family-Learning-Fun-Day-Eng.png
ORGANIZER;CN="Ted%20Wong":MAILTO:twong@tccsa.org
END:VEVENT
END:VCALENDAR