BEGIN:VCALENDAR
VERSION:2.0
PRODID:-//TCCSA - ECPv5.1.5//NONSGML v1.0//EN
CALSCALE:GREGORIAN
METHOD:PUBLISH
X-WR-CALNAME:TCCSA
X-ORIGINAL-URL:https://tccsa.on.ca
X-WR-CALDESC:Events for TCCSA
BEGIN:VTIMEZONE
TZID:America/New_York
BEGIN:DAYLIGHT
TZOFFSETFROM:-0500
TZOFFSETTO:-0400
TZNAME:EDT
DTSTART:20230312T070000
END:DAYLIGHT
BEGIN:STANDARD
TZOFFSETFROM:-0400
TZOFFSETTO:-0500
TZNAME:EST
DTSTART:20231105T060000
END:STANDARD
END:VTIMEZONE
BEGIN:VEVENT
DTSTART;TZID=America/New_York:20230419T103000
DTEND;TZID=America/New_York:20230419T120000
DTSTAMP:20260421T085837
CREATED:20230327T183852Z
LAST-MODIFIED:20230327T183852Z
UID:19616-1681900200-1681905600@tccsa.on.ca
SUMMARY:Old Age Security (OAS)
DESCRIPTION: \n \n
URL:https://tccsa.on.ca/event/old-age-security-oas-2/
LOCATION:Online
CATEGORIES:Settlement Services
END:VEVENT
END:VCALENDAR