BEGIN:VCALENDAR
VERSION:2.0
PRODID:-//TCCSA - ECPv5.1.5//NONSGML v1.0//EN
CALSCALE:GREGORIAN
METHOD:PUBLISH
X-WR-CALNAME:TCCSA
X-ORIGINAL-URL:https://tccsa.on.ca
X-WR-CALDESC:Events for TCCSA
BEGIN:VTIMEZONE
TZID:America/New_York
BEGIN:DAYLIGHT
TZOFFSETFROM:-0500
TZOFFSETTO:-0400
TZNAME:EDT
DTSTART:20260308T070000
END:DAYLIGHT
BEGIN:STANDARD
TZOFFSETFROM:-0400
TZOFFSETTO:-0500
TZNAME:EST
DTSTART:20261101T060000
END:STANDARD
END:VTIMEZONE
BEGIN:VEVENT
DTSTART;TZID=America/New_York:20260103T094500
DTEND;TZID=America/New_York:20260103T173000
DTSTAMP:20260421T045048
CREATED:20251217T155401Z
LAST-MODIFIED:20251217T161554Z
UID:29406-1767433500-1767461400@tccsa.on.ca
SUMMARY:Mosaic Journey
DESCRIPTION: \n
URL:https://tccsa.on.ca/event/mosaic-journey/
CATEGORIES:York Centre
ATTACH;FMTTYPE=image/png:https://tccsa.on.ca/wp-content/uploads/2025/12/Mosaic-Journey-a-Day-at-the-aga-khan-museum_eng-flyer.png
ORGANIZER;CN="Lilian%20Li":MAILTO:lli@tccsa.org
END:VEVENT
END:VCALENDAR