BEGIN:VCALENDAR
VERSION:2.0
PRODID:-//TCCSA - ECPv5.1.5//NONSGML v1.0//EN
CALSCALE:GREGORIAN
METHOD:PUBLISH
X-WR-CALNAME:TCCSA
X-ORIGINAL-URL:https://tccsa.on.ca
X-WR-CALDESC:Events for TCCSA
BEGIN:VTIMEZONE
TZID:America/New_York
BEGIN:DAYLIGHT
TZOFFSETFROM:-0500
TZOFFSETTO:-0400
TZNAME:EDT
DTSTART:20260308T070000
END:DAYLIGHT
BEGIN:STANDARD
TZOFFSETFROM:-0400
TZOFFSETTO:-0500
TZNAME:EST
DTSTART:20261101T060000
END:STANDARD
END:VTIMEZONE
BEGIN:VEVENT
DTSTART;TZID=America/New_York:20260623T093000
DTEND;TZID=America/New_York:20260623T160000
DTSTAMP:20260423T140406
CREATED:20260421T190509Z
LAST-MODIFIED:20260421T190509Z
UID:31067-1782207000-1782230400@tccsa.on.ca
SUMMARY:Moccasin Trail Park Hiking
DESCRIPTION:  \n
URL:https://tccsa.on.ca/event/moccasin-trail-park-hiking/
LOCATION:TCCSA Scarborough Centre\, 325 Bamburgh Circle\, Unit A107\, Toronto\, Ontario\, M1W 3Y1\, Canada
CATEGORIES:Scarborough Centre
ATTACH;FMTTYPE=image/png:https://tccsa.on.ca/wp-content/uploads/2026/04/Moccasin-Trail-Park-Hiking-ENG.png
ORGANIZER;CN="Michelle%20Lin":MAILTO:mlin@tccsa.org
END:VEVENT
END:VCALENDAR