BEGIN:VCALENDAR
VERSION:2.0
PRODID:-//TCCSA - ECPv5.1.5//NONSGML v1.0//EN
CALSCALE:GREGORIAN
METHOD:PUBLISH
X-WR-CALNAME:TCCSA
X-ORIGINAL-URL:https://tccsa.on.ca
X-WR-CALDESC:Events for TCCSA
BEGIN:VTIMEZONE
TZID:America/New_York
BEGIN:DAYLIGHT
TZOFFSETFROM:-0500
TZOFFSETTO:-0400
TZNAME:EDT
DTSTART:20240310T070000
END:DAYLIGHT
BEGIN:STANDARD
TZOFFSETFROM:-0400
TZOFFSETTO:-0500
TZNAME:EST
DTSTART:20241103T060000
END:STANDARD
END:VTIMEZONE
BEGIN:VEVENT
DTSTART;TZID=America/New_York:20240122T154500
DTEND;TZID=America/New_York:20240122T164500
DTSTAMP:20260421T125919
CREATED:20231211T221623Z
LAST-MODIFIED:20240105T162339Z
UID:23176-1705938300-1705941900@tccsa.on.ca
SUMMARY:Microsoft Office Computer Training for Beginners
DESCRIPTION:   \n
URL:https://tccsa.on.ca/event/microsoft-office-computer-training-for-beginners/2024-01-22/
LOCATION:TCCSA York Centre\, Metro Square\, 3636 Steeles Avenue East\, Unit 213A\, Markham\, Ontario\, L3R 1K9\, Canada
CATEGORIES:Other,Settlement Services
END:VEVENT
END:VCALENDAR