BEGIN:VCALENDAR
VERSION:2.0
PRODID:-//TCCSA - ECPv5.1.5//NONSGML v1.0//EN
CALSCALE:GREGORIAN
METHOD:PUBLISH
X-WR-CALNAME:TCCSA
X-ORIGINAL-URL:https://tccsa.on.ca
X-WR-CALDESC:Events for TCCSA
BEGIN:VTIMEZONE
TZID:America/New_York
BEGIN:DAYLIGHT
TZOFFSETFROM:-0500
TZOFFSETTO:-0400
TZNAME:EDT
DTSTART:20220313T070000
END:DAYLIGHT
BEGIN:STANDARD
TZOFFSETFROM:-0400
TZOFFSETTO:-0500
TZNAME:EST
DTSTART:20221106T060000
END:STANDARD
END:VTIMEZONE
BEGIN:VEVENT
DTSTART;TZID=America/New_York:20220216T150000
DTEND;TZID=America/New_York:20220216T160000
DTSTAMP:20260421T114559
CREATED:20220128T232446Z
LAST-MODIFIED:20220128T232446Z
UID:15214-1645023600-1645027200@tccsa.on.ca
SUMMARY:Mental Wellness Workshop
DESCRIPTION: \n
URL:https://tccsa.on.ca/event/mental-wellness-workshop/
LOCATION:Online
CATEGORIES:Community Services,Settlement Services
END:VEVENT
END:VCALENDAR