BEGIN:VCALENDAR
VERSION:2.0
PRODID:-//TCCSA - ECPv5.1.5//NONSGML v1.0//EN
CALSCALE:GREGORIAN
METHOD:PUBLISH
X-WR-CALNAME:TCCSA
X-ORIGINAL-URL:https://tccsa.on.ca
X-WR-CALDESC:Events for TCCSA
BEGIN:VTIMEZONE
TZID:America/New_York
BEGIN:DAYLIGHT
TZOFFSETFROM:-0500
TZOFFSETTO:-0400
TZNAME:EDT
DTSTART:20260308T070000
END:DAYLIGHT
BEGIN:STANDARD
TZOFFSETFROM:-0400
TZOFFSETTO:-0500
TZNAME:EST
DTSTART:20261101T060000
END:STANDARD
END:VTIMEZONE
BEGIN:VEVENT
DTSTART;TZID=America/New_York:20260317T100000
DTEND;TZID=America/New_York:20260317T123000
DTSTAMP:20260421T023403
CREATED:20260123T205709Z
LAST-MODIFIED:20260306T191138Z
UID:30135-1773741600-1773750600@tccsa.on.ca
SUMMARY:March Break Camp for Newcomer Children (6 to 12 Years Old)
DESCRIPTION:  \n
URL:https://tccsa.on.ca/event/march-break-camp-for-newcomer-children-6-to-12-years-old/2026-03-17/
LOCATION:TCCSA Toronto Centre\, 247 Spadina Ave\, 4th Floor\, Toronto\, Ontario\, M5T 3A8\, Canada
CATEGORIES:Children,Newcomer,Toronto Centre
ATTACH;FMTTYPE=image/png:https://tccsa.on.ca/wp-content/uploads/2026/01/RE_March-Break-Camp-EN.png
ORGANIZER;CN="Qicheng%20Sun":MAILTO:qsun@tccsa.org
END:VEVENT
END:VCALENDAR