BEGIN:VCALENDAR
VERSION:2.0
PRODID:-//TCCSA - ECPv5.1.5//NONSGML v1.0//EN
CALSCALE:GREGORIAN
METHOD:PUBLISH
X-WR-CALNAME:TCCSA
X-ORIGINAL-URL:https://tccsa.on.ca
X-WR-CALDESC:Events for TCCSA
BEGIN:VTIMEZONE
TZID:America/New_York
BEGIN:DAYLIGHT
TZOFFSETFROM:-0500
TZOFFSETTO:-0400
TZNAME:EDT
DTSTART:20250309T070000
END:DAYLIGHT
BEGIN:STANDARD
TZOFFSETFROM:-0400
TZOFFSETTO:-0500
TZNAME:EST
DTSTART:20251102T060000
END:STANDARD
END:VTIMEZONE
BEGIN:VEVENT
DTSTART;TZID=America/New_York:20250919T103000
DTEND;TZID=America/New_York:20250919T120000
DTSTAMP:20260421T150041
CREATED:20251015T153853Z
LAST-MODIFIED:20251015T153853Z
UID:28051-1758277800-1758283200@tccsa.on.ca
SUMMARY:Life in Canada: Coffee Chat
DESCRIPTION: Li \n
URL:https://tccsa.on.ca/event/life-in-canada-coffee-chat/2025-09-19/
LOCATION:Miliken Mills Community Centre\, 7600 Kennedy Road\, Markham\, Ontario\, L3R9S5\, Canada
CATEGORIES:York Centre
END:VEVENT
END:VCALENDAR