BEGIN:VCALENDAR
VERSION:2.0
PRODID:-//TCCSA - ECPv5.1.5//NONSGML v1.0//EN
CALSCALE:GREGORIAN
METHOD:PUBLISH
X-WR-CALNAME:TCCSA
X-ORIGINAL-URL:https://tccsa.on.ca
X-WR-CALDESC:Events for TCCSA
BEGIN:VTIMEZONE
TZID:America/New_York
BEGIN:DAYLIGHT
TZOFFSETFROM:-0500
TZOFFSETTO:-0400
TZNAME:EDT
DTSTART:20260308T070000
END:DAYLIGHT
BEGIN:STANDARD
TZOFFSETFROM:-0400
TZOFFSETTO:-0500
TZNAME:EST
DTSTART:20261101T060000
END:STANDARD
END:VTIMEZONE
BEGIN:VEVENT
DTSTART;TZID=America/New_York:20260211T090000
DTEND;TZID=America/New_York:20260211T170000
DTSTAMP:20260421T022248
CREATED:20260123T193305Z
LAST-MODIFIED:20260123T193305Z
UID:29882-1770800400-1770829200@tccsa.on.ca
SUMMARY:Let's go to ROM (Royal Ontario Museum)
DESCRIPTION:  \n
URL:https://tccsa.on.ca/event/lets-go-to-rom-royal-ontario-museum/
LOCATION:TCCSA Scarborough Centre\, 325 Bamburgh Circle\, Unit A107\, Toronto\, Ontario\, M1W 3Y1\, Canada
CATEGORIES:Scarborough Centre,Toronto Centre
ATTACH;FMTTYPE=image/png:https://tccsa.on.ca/wp-content/uploads/2026/01/Let-go-to-ROM-EN.png
ORGANIZER;CN="Cindy%20Meng":MAILTO:cmeng@tccsa.org
END:VEVENT
END:VCALENDAR