BEGIN:VCALENDAR
VERSION:2.0
PRODID:-//TCCSA - ECPv5.1.5//NONSGML v1.0//EN
CALSCALE:GREGORIAN
METHOD:PUBLISH
X-WR-CALNAME:TCCSA
X-ORIGINAL-URL:https://tccsa.on.ca
X-WR-CALDESC:Events for TCCSA
BEGIN:VTIMEZONE
TZID:America/New_York
BEGIN:DAYLIGHT
TZOFFSETFROM:-0500
TZOFFSETTO:-0400
TZNAME:EDT
DTSTART:20260308T070000
END:DAYLIGHT
BEGIN:STANDARD
TZOFFSETFROM:-0400
TZOFFSETTO:-0500
TZNAME:EST
DTSTART:20261101T060000
END:STANDARD
END:VTIMEZONE
BEGIN:VEVENT
DTSTART;TZID=America/New_York:20260119T100000
DTEND;TZID=America/New_York:20260119T110000
DTSTAMP:20260421T064705
CREATED:20251127T154209Z
LAST-MODIFIED:20251127T154210Z
UID:28902-1768816800-1768820400@tccsa.on.ca
SUMMARY:Introduction to Canada's Government System
DESCRIPTION: Introduction to Canada’s Government System \n
URL:https://tccsa.on.ca/event/introduction-to-canadas-government-system/
LOCATION:Online
CATEGORIES:Scarborough Centre
ATTACH;FMTTYPE=image/png:https://tccsa.on.ca/wp-content/uploads/2025/11/Introduction-to-Canadas-Government-System-ENG.png
ORGANIZER;CN="Michelle%20Lin":MAILTO:mlin@tccsa.org
END:VEVENT
END:VCALENDAR