BEGIN:VCALENDAR
VERSION:2.0
PRODID:-//TCCSA - ECPv5.1.5//NONSGML v1.0//EN
CALSCALE:GREGORIAN
METHOD:PUBLISH
X-WR-CALNAME:TCCSA
X-ORIGINAL-URL:https://tccsa.on.ca
X-WR-CALDESC:Events for TCCSA
BEGIN:VTIMEZONE
TZID:America/New_York
BEGIN:DAYLIGHT
TZOFFSETFROM:-0500
TZOFFSETTO:-0400
TZNAME:EDT
DTSTART:20220313T070000
END:DAYLIGHT
BEGIN:STANDARD
TZOFFSETFROM:-0400
TZOFFSETTO:-0500
TZNAME:EST
DTSTART:20221106T060000
END:STANDARD
END:VTIMEZONE
BEGIN:VEVENT
DTSTART;TZID=America/New_York:20220215T100000
DTEND;TZID=America/New_York:20220215T113000
DTSTAMP:20260421T122333
CREATED:20220125T182327Z
LAST-MODIFIED:20220125T182638Z
UID:15106-1644919200-1644924600@tccsa.on.ca
SUMMARY:How to use Zoom
DESCRIPTION:0215-0308 C.C._How to use Zoom_Flyer_LTjong \n
URL:https://tccsa.on.ca/event/how-to-use-zoom/2022-02-15/
LOCATION:Online
CATEGORIES:Community Services
END:VEVENT
END:VCALENDAR