BEGIN:VCALENDAR
VERSION:2.0
PRODID:-//TCCSA - ECPv5.1.5//NONSGML v1.0//EN
CALSCALE:GREGORIAN
METHOD:PUBLISH
X-WR-CALNAME:TCCSA
X-ORIGINAL-URL:https://tccsa.on.ca
X-WR-CALDESC:Events for TCCSA
BEGIN:VTIMEZONE
TZID:America/New_York
BEGIN:DAYLIGHT
TZOFFSETFROM:-0500
TZOFFSETTO:-0400
TZNAME:EDT
DTSTART:20250309T070000
END:DAYLIGHT
BEGIN:STANDARD
TZOFFSETFROM:-0400
TZOFFSETTO:-0500
TZNAME:EST
DTSTART:20251102T060000
END:STANDARD
END:VTIMEZONE
BEGIN:VEVENT
DTSTART;TZID=America/New_York:20251002T103000
DTEND;TZID=America/New_York:20251002T113000
DTSTAMP:20260421T101148
CREATED:20250922T201159Z
LAST-MODIFIED:20251015T143933Z
UID:27569-1759401000-1759404600@tccsa.on.ca
SUMMARY:Healthy Bones\, Healthy Women
DESCRIPTION:  \n
URL:https://tccsa.on.ca/event/healthy-bones-healthy-women/
LOCATION:Online
CATEGORIES:Settlement Services,York Centre
ORGANIZER;CN="Sue%20Chan":MAILTO:schan@tccsa.org
END:VEVENT
END:VCALENDAR