BEGIN:VCALENDAR
VERSION:2.0
PRODID:-//TCCSA - ECPv5.1.5//NONSGML v1.0//EN
CALSCALE:GREGORIAN
METHOD:PUBLISH
X-WR-CALNAME:TCCSA
X-ORIGINAL-URL:https://tccsa.on.ca
X-WR-CALDESC:Events for TCCSA
BEGIN:VTIMEZONE
TZID:America/New_York
BEGIN:DAYLIGHT
TZOFFSETFROM:-0500
TZOFFSETTO:-0400
TZNAME:EDT
DTSTART:20220313T070000
END:DAYLIGHT
BEGIN:STANDARD
TZOFFSETFROM:-0400
TZOFFSETTO:-0500
TZNAME:EST
DTSTART:20221106T060000
END:STANDARD
END:VTIMEZONE
BEGIN:VEVENT
DTSTART;TZID=America/New_York:20221126T130000
DTEND;TZID=America/New_York:20221126T150000
DTSTAMP:20260421T085459
CREATED:20221116T212712Z
LAST-MODIFIED:20221116T212712Z
UID:18030-1669467600-1669474800@tccsa.on.ca
SUMMARY:Future Ready Event
DESCRIPTION: \n“Future Ready” is a collaboration between RBC Future Launch and TCCSA to empower youth to be better prepared for the careers of tomorrow\, especially in a post-pandemic “new normal”. This virtual event will feature a panel of motivational speakers who will provide information\, advice\, resources\, and encouragement to youth to build confidence and techniques to reach their fullest potential. \n  \nThe panelist will relay the importance of: \n\nResilience\, perseverance\, ambition\, and building healthy boundaries.\nTheir challenges and breakthrough moments redefining goals and ambitions.\nNetworking and connecting with individuals to learn\, share\, and grow together.\n\n  \nDate: Saturday\, November 26\, 2022 \nTime: 1:00 p.m. to 3:00 p.m. \nOnline registration: https://www.eventbrite.ca/e/future-ready-tickets-454016043207 \nFor any questions\, please email Alison Cheng at acheng@tccsa.org \n  \nVolunteer Hours Available For Participating High School. Please contact Alison at acheng@tccsa.org for more information. \n
URL:https://tccsa.on.ca/event/future-ready-event/
LOCATION:Online
END:VEVENT
END:VCALENDAR