BEGIN:VCALENDAR
VERSION:2.0
PRODID:-//TCCSA - ECPv5.1.5//NONSGML v1.0//EN
CALSCALE:GREGORIAN
METHOD:PUBLISH
X-WR-CALNAME:TCCSA
X-ORIGINAL-URL:https://tccsa.on.ca
X-WR-CALDESC:Events for TCCSA
BEGIN:VTIMEZONE
TZID:America/New_York
BEGIN:DAYLIGHT
TZOFFSETFROM:-0500
TZOFFSETTO:-0400
TZNAME:EDT
DTSTART:20260308T070000
END:DAYLIGHT
BEGIN:STANDARD
TZOFFSETFROM:-0400
TZOFFSETTO:-0500
TZNAME:EST
DTSTART:20261101T060000
END:STANDARD
END:VTIMEZONE
BEGIN:VEVENT
DTSTART;TZID=America/New_York:20260401T093000
DTEND;TZID=America/New_York:20260401T163000
DTSTAMP:20260421T023614
CREATED:20251211T155429Z
LAST-MODIFIED:20251211T155926Z
UID:29211-1775035800-1775061000@tccsa.on.ca
SUMMARY:Free Tax Clinic for Seniors with Low Income
DESCRIPTION:  \n
URL:https://tccsa.on.ca/event/free-tax-clinic-for-seniors-with-low-income/2026-04-01/
LOCATION:TCCSA Scarborough Centre\, 325 Bamburgh Circle\, Unit A107\, Toronto\, Ontario\, M1W 3Y1\, Canada
CATEGORIES:Scarborough Centre
ATTACH;FMTTYPE=image/png:https://tccsa.on.ca/wp-content/uploads/2025/12/NSLT_Free-Tax-Clinic-for-Seniors-with-Low-Income-ENG.png
END:VEVENT
END:VCALENDAR