BEGIN:VCALENDAR
VERSION:2.0
PRODID:-//TCCSA - ECPv5.1.5//NONSGML v1.0//EN
CALSCALE:GREGORIAN
METHOD:PUBLISH
X-WR-CALNAME:TCCSA
X-ORIGINAL-URL:https://tccsa.on.ca
X-WR-CALDESC:Events for TCCSA
BEGIN:VTIMEZONE
TZID:America/New_York
BEGIN:DAYLIGHT
TZOFFSETFROM:-0500
TZOFFSETTO:-0400
TZNAME:EDT
DTSTART:20220313T070000
END:DAYLIGHT
BEGIN:STANDARD
TZOFFSETFROM:-0400
TZOFFSETTO:-0500
TZNAME:EST
DTSTART:20221106T060000
END:STANDARD
END:VTIMEZONE
BEGIN:VEVENT
DTSTART;TZID=America/New_York:20220117T100000
DTEND;TZID=America/New_York:20220117T150000
DTSTAMP:20260421T075307
CREATED:20220107T164810Z
LAST-MODIFIED:20220107T165800Z
UID:14831-1642413600-1642431600@tccsa.on.ca
SUMMARY:Food Hamper for Seniors
DESCRIPTION:Flyer – Food Hamper for Seniors 2022 \n \n \n
URL:https://tccsa.on.ca/event/food-hamper-for-seniors/2022-01-17/
CATEGORIES:Community Services
END:VEVENT
END:VCALENDAR