BEGIN:VCALENDAR
VERSION:2.0
PRODID:-//TCCSA - ECPv5.1.5//NONSGML v1.0//EN
CALSCALE:GREGORIAN
METHOD:PUBLISH
X-WR-CALNAME:TCCSA
X-ORIGINAL-URL:https://tccsa.on.ca
X-WR-CALDESC:Events for TCCSA
BEGIN:VTIMEZONE
TZID:America/New_York
BEGIN:DAYLIGHT
TZOFFSETFROM:-0500
TZOFFSETTO:-0400
TZNAME:EDT
DTSTART:20260308T070000
END:DAYLIGHT
BEGIN:STANDARD
TZOFFSETFROM:-0400
TZOFFSETTO:-0500
TZNAME:EST
DTSTART:20261101T060000
END:STANDARD
END:VTIMEZONE
BEGIN:VEVENT
DTSTART;TZID=America/New_York:20260603T120000
DTEND;TZID=America/New_York:20260603T130000
DTSTAMP:20260420T211927
CREATED:20260415T191110Z
LAST-MODIFIED:20260415T191110Z
UID:30980-1780488000-1780491600@tccsa.on.ca
SUMMARY:Fit and Flow (May 6 to June 24\, 2026)
DESCRIPTION: \n
URL:https://tccsa.on.ca/event/fit-and-flow-may-6-to-june-24-2026/2026-06-03/
LOCATION:TCCSA York Centre\, Metro Square\, 3636 Steeles Avenue East\, Unit 213A\, Markham\, Ontario\, L3R 1K9\, Canada
CATEGORIES:Newcomer,Wellness Services,York Centre
ATTACH;FMTTYPE=image/png:https://tccsa.on.ca/wp-content/uploads/2026/04/Fit-Flow-1.png
ORGANIZER;CN="Parisa%20Mousavizadeh":MAILTO:pmousavizadeh@tccsa.org
END:VEVENT
END:VCALENDAR