BEGIN:VCALENDAR
VERSION:2.0
PRODID:-//TCCSA - ECPv5.1.5//NONSGML v1.0//EN
CALSCALE:GREGORIAN
METHOD:PUBLISH
X-WR-CALNAME:TCCSA
X-ORIGINAL-URL:https://tccsa.on.ca
X-WR-CALDESC:Events for TCCSA
BEGIN:VTIMEZONE
TZID:America/New_York
BEGIN:DAYLIGHT
TZOFFSETFROM:-0500
TZOFFSETTO:-0400
TZNAME:EDT
DTSTART:20250309T070000
END:DAYLIGHT
BEGIN:STANDARD
TZOFFSETFROM:-0400
TZOFFSETTO:-0500
TZNAME:EST
DTSTART:20251102T060000
END:STANDARD
END:VTIMEZONE
BEGIN:VEVENT
DTSTART;TZID=America/New_York:20250908T103000
DTEND;TZID=America/New_York:20250908T113000
DTSTAMP:20260421T080325
CREATED:20250821T195101Z
LAST-MODIFIED:20250821T195101Z
UID:27250-1757327400-1757331000@tccsa.on.ca
SUMMARY:English for Everyday Life (Connect and Belong)
DESCRIPTION: \n
URL:https://tccsa.on.ca/event/english-for-everyday-life-connect-and-belong-2/2025-09-08/
CATEGORIES:Language & Skills Training
END:VEVENT
END:VCALENDAR