BEGIN:VCALENDAR
VERSION:2.0
PRODID:-//TCCSA - ECPv5.1.5//NONSGML v1.0//EN
CALSCALE:GREGORIAN
METHOD:PUBLISH
X-WR-CALNAME:TCCSA
X-ORIGINAL-URL:https://tccsa.on.ca
X-WR-CALDESC:Events for TCCSA
BEGIN:VTIMEZONE
TZID:America/New_York
BEGIN:DAYLIGHT
TZOFFSETFROM:-0500
TZOFFSETTO:-0400
TZNAME:EDT
DTSTART:20250309T070000
END:DAYLIGHT
BEGIN:STANDARD
TZOFFSETFROM:-0400
TZOFFSETTO:-0500
TZNAME:EST
DTSTART:20251102T060000
END:STANDARD
END:VTIMEZONE
BEGIN:VEVENT
DTSTART;TZID=America/New_York:20251002T154500
DTEND;TZID=America/New_York:20251002T170000
DTSTAMP:20260421T122611
CREATED:20250821T193622Z
LAST-MODIFIED:20251015T143723Z
UID:27557-1759419900-1759424400@tccsa.on.ca
SUMMARY:English Conversation Circle - Welcome to All Newcomer Men and Families
DESCRIPTION: \n \n
URL:https://tccsa.on.ca/event/english-conversation-circle-welcome-to-all-newcomer-men-and-families/2025-10-02/
LOCATION:Online
CATEGORIES:York Centre
ORGANIZER;CN="Charlie%20Tsau":MAILTO:ctsau@tccsa.org
END:VEVENT
END:VCALENDAR