BEGIN:VCALENDAR
VERSION:2.0
PRODID:-//TCCSA - ECPv5.1.5//NONSGML v1.0//EN
CALSCALE:GREGORIAN
METHOD:PUBLISH
X-WR-CALNAME:TCCSA
X-ORIGINAL-URL:https://tccsa.on.ca
X-WR-CALDESC:Events for TCCSA
BEGIN:VTIMEZONE
TZID:America/New_York
BEGIN:DAYLIGHT
TZOFFSETFROM:-0500
TZOFFSETTO:-0400
TZNAME:EDT
DTSTART:20240310T070000
END:DAYLIGHT
BEGIN:STANDARD
TZOFFSETFROM:-0400
TZOFFSETTO:-0500
TZNAME:EST
DTSTART:20241103T060000
END:STANDARD
END:VTIMEZONE
BEGIN:VEVENT
DTSTART;TZID=America/New_York:20240307T103000
DTEND;TZID=America/New_York:20240307T120000
DTSTAMP:20260423T232941
CREATED:20240221T221312Z
LAST-MODIFIED:20240221T221312Z
UID:23913-1709807400-1709812800@tccsa.on.ca
SUMMARY:Elder Abuse Awareness
DESCRIPTION:  \n
URL:https://tccsa.on.ca/event/elder-abuse-awareness-2/
LOCATION:Online
CATEGORIES:Settlement Services
ORGANIZER;CN="Charlie%20Tsau":MAILTO:ctsau@tccsa.org
END:VEVENT
END:VCALENDAR