BEGIN:VCALENDAR
VERSION:2.0
PRODID:-//TCCSA - ECPv5.1.5//NONSGML v1.0//EN
CALSCALE:GREGORIAN
METHOD:PUBLISH
X-WR-CALNAME:TCCSA
X-ORIGINAL-URL:https://tccsa.on.ca
X-WR-CALDESC:Events for TCCSA
BEGIN:VTIMEZONE
TZID:America/New_York
BEGIN:DAYLIGHT
TZOFFSETFROM:-0500
TZOFFSETTO:-0400
TZNAME:EDT
DTSTART:20260308T070000
END:DAYLIGHT
BEGIN:STANDARD
TZOFFSETFROM:-0400
TZOFFSETTO:-0500
TZNAME:EST
DTSTART:20261101T060000
END:STANDARD
END:VTIMEZONE
BEGIN:VEVENT
DTSTART;TZID=America/New_York:20260313T100000
DTEND;TZID=America/New_York:20260313T170000
DTSTAMP:20260421T030055
CREATED:20260225T200224Z
LAST-MODIFIED:20260225T200224Z
UID:30167-1773396000-1773421200@tccsa.on.ca
SUMMARY:EarlyOn Programs for Families – March 2026
DESCRIPTION: \n
URL:https://tccsa.on.ca/event/earlyon-programs-for-families-march-2026/2026-03-13/
LOCATION:TCCSA Toronto Centre\, 247 Spadina Ave\, 4th Floor\, Toronto\, Ontario\, M5T 3A8\, Canada
CATEGORIES:EarlyOn Programs for Families,Toronto Centre
ATTACH;FMTTYPE=image/jpeg:https://tccsa.on.ca/wp-content/uploads/2026/02/03-2026.jpg
ORGANIZER;CN="Anne%20Wong":MAILTO:awong@tccsa.org
END:VEVENT
END:VCALENDAR