BEGIN:VCALENDAR
VERSION:2.0
PRODID:-//TCCSA - ECPv5.1.5//NONSGML v1.0//EN
CALSCALE:GREGORIAN
METHOD:PUBLISH
X-WR-CALNAME:TCCSA
X-ORIGINAL-URL:https://tccsa.on.ca
X-WR-CALDESC:Events for TCCSA
BEGIN:VTIMEZONE
TZID:America/New_York
BEGIN:DAYLIGHT
TZOFFSETFROM:-0500
TZOFFSETTO:-0400
TZNAME:EDT
DTSTART:20250309T070000
END:DAYLIGHT
BEGIN:STANDARD
TZOFFSETFROM:-0400
TZOFFSETTO:-0500
TZNAME:EST
DTSTART:20251102T060000
END:STANDARD
END:VTIMEZONE
BEGIN:VEVENT
DTSTART;TZID=America/New_York:20251031T100000
DTEND;TZID=America/New_York:20251031T170000
DTSTAMP:20260421T084851
CREATED:20250923T153437Z
LAST-MODIFIED:20250923T153437Z
UID:27645-1761904800-1761930000@tccsa.on.ca
SUMMARY:EarlyOn Program for Families - October 2025
DESCRIPTION: \n
URL:https://tccsa.on.ca/event/earlyon-program-for-families-october-2025/2025-10-31/
LOCATION:TCCSA Toronto Centre\, 247 Spadina Ave\, 4th Floor\, Toronto\, Ontario\, M5T 3A8\, Canada
CATEGORIES:EarlyOn Programs for Families
END:VEVENT
END:VCALENDAR