BEGIN:VCALENDAR
VERSION:2.0
PRODID:-//TCCSA - ECPv5.1.5//NONSGML v1.0//EN
CALSCALE:GREGORIAN
METHOD:PUBLISH
X-WR-CALNAME:TCCSA
X-ORIGINAL-URL:https://tccsa.on.ca
X-WR-CALDESC:Events for TCCSA
BEGIN:VTIMEZONE
TZID:America/New_York
BEGIN:DAYLIGHT
TZOFFSETFROM:-0500
TZOFFSETTO:-0400
TZNAME:EDT
DTSTART:20250309T070000
END:DAYLIGHT
BEGIN:STANDARD
TZOFFSETFROM:-0400
TZOFFSETTO:-0500
TZNAME:EST
DTSTART:20251102T060000
END:STANDARD
END:VTIMEZONE
BEGIN:VEVENT
DTSTART;TZID=America/New_York:20251016T153000
DTEND;TZID=America/New_York:20251016T164500
DTSTAMP:20260421T150806
CREATED:20250904T185556Z
LAST-MODIFIED:20251015T143613Z
UID:27446-1760628600-1760633100@tccsa.on.ca
SUMMARY:Discover Toronto's Historic Castle
DESCRIPTION:  \n
URL:https://tccsa.on.ca/event/discover-torontos-historic-castle/
LOCATION:Online
CATEGORIES:Community Services,Settlement Services,York Centre
ORGANIZER;CN="Charlie%20Tsau":MAILTO:ctsau@tccsa.org
END:VEVENT
END:VCALENDAR