BEGIN:VCALENDAR
VERSION:2.0
PRODID:-//TCCSA - ECPv5.1.5//NONSGML v1.0//EN
CALSCALE:GREGORIAN
METHOD:PUBLISH
X-WR-CALNAME:TCCSA
X-ORIGINAL-URL:https://tccsa.on.ca
X-WR-CALDESC:Events for TCCSA
BEGIN:VTIMEZONE
TZID:America/New_York
BEGIN:DAYLIGHT
TZOFFSETFROM:-0500
TZOFFSETTO:-0400
TZNAME:EDT
DTSTART:20260308T070000
END:DAYLIGHT
BEGIN:STANDARD
TZOFFSETFROM:-0400
TZOFFSETTO:-0500
TZNAME:EST
DTSTART:20261101T060000
END:STANDARD
END:VTIMEZONE
BEGIN:VEVENT
DTSTART;TZID=America/New_York:20260319T140000
DTEND;TZID=America/New_York:20260319T153000
DTSTAMP:20260421T022146
CREATED:20251211T145231Z
LAST-MODIFIED:20260204T164732Z
UID:29176-1773928800-1773934200@tccsa.on.ca
SUMMARY:Dental Care and Benefits Plan
DESCRIPTION:  \n
URL:https://tccsa.on.ca/event/dental-care-and-benefits-plan/
LOCATION:Steeles Library\, 375 Bamburgh Cir\, C107\, Scarborough\, Ontario\, Canada
CATEGORIES:Scarborough Centre,Settlement Services
ATTACH;FMTTYPE=image/png:https://tccsa.on.ca/wp-content/uploads/2025/12/Dental-Care-and-Benefit-Plan-Workshop-ENG.png
ORGANIZER;CN="Cindy%20Meng":MAILTO:cmeng@tccsa.org
END:VEVENT
END:VCALENDAR