BEGIN:VCALENDAR
VERSION:2.0
PRODID:-//TCCSA - ECPv5.1.5//NONSGML v1.0//EN
CALSCALE:GREGORIAN
METHOD:PUBLISH
X-WR-CALNAME:TCCSA
X-ORIGINAL-URL:https://tccsa.on.ca
X-WR-CALDESC:Events for TCCSA
BEGIN:VTIMEZONE
TZID:America/New_York
BEGIN:DAYLIGHT
TZOFFSETFROM:-0500
TZOFFSETTO:-0400
TZNAME:EDT
DTSTART:20260308T070000
END:DAYLIGHT
BEGIN:STANDARD
TZOFFSETFROM:-0400
TZOFFSETTO:-0500
TZNAME:EST
DTSTART:20261101T060000
END:STANDARD
END:VTIMEZONE
BEGIN:VEVENT
DTSTART;TZID=America/New_York:20260622T100000
DTEND;TZID=America/New_York:20260622T113000
DTSTAMP:20260423T140446
CREATED:20260421T190116Z
LAST-MODIFIED:20260421T190116Z
UID:31063-1782122400-1782127800@tccsa.on.ca
SUMMARY:Dental Care and Benefits Plan
DESCRIPTION:  \n
URL:https://tccsa.on.ca/event/dental-care-and-benefits-plan-2/
LOCATION:Online
CATEGORIES:Online,Scarborough Centre
ATTACH;FMTTYPE=image/png:https://tccsa.on.ca/wp-content/uploads/2026/04/Dental-Care-and-Benefits-Plan-ENG.png
ORGANIZER;CN="Michelle%20Lin":MAILTO:mlin@tccsa.org
END:VEVENT
END:VCALENDAR