BEGIN:VCALENDAR
VERSION:2.0
PRODID:-//TCCSA - ECPv5.1.5//NONSGML v1.0//EN
CALSCALE:GREGORIAN
METHOD:PUBLISH
X-WR-CALNAME:TCCSA
X-ORIGINAL-URL:https://tccsa.on.ca
X-WR-CALDESC:Events for TCCSA
BEGIN:VTIMEZONE
TZID:America/New_York
BEGIN:DAYLIGHT
TZOFFSETFROM:-0500
TZOFFSETTO:-0400
TZNAME:EDT
DTSTART:20260308T070000
END:DAYLIGHT
BEGIN:STANDARD
TZOFFSETFROM:-0400
TZOFFSETTO:-0500
TZNAME:EST
DTSTART:20261101T060000
END:STANDARD
END:VTIMEZONE
BEGIN:VEVENT
DTSTART;TZID=America/New_York:20260314T100000
DTEND;TZID=America/New_York:20260314T130000
DTSTAMP:20260420T235521
CREATED:20260107T212515Z
LAST-MODIFIED:20260107T212515Z
UID:29653-1773482400-1773493200@tccsa.on.ca
SUMMARY:Crochet Workshop 2026 - Lucky Mandarin Orange Plushie / Sweet Heart Cushion / Onigiri Plushie
DESCRIPTION: \n
URL:https://tccsa.on.ca/event/crochet-workshop-2026-lucky-mandarin-orange-plushie-sweet-heart-cushion-onigiri-plushie/2026-03-14/
LOCATION:TCCSA York Centre\, Metro Square\, 3636 Steeles Avenue East\, Unit 213A\, Markham\, Ontario\, L3R 1K9\, Canada
CATEGORIES:Self-enhancement Learning Centre
ATTACH;FMTTYPE=image/png:https://tccsa.on.ca/wp-content/uploads/2026/01/Stitch-Switch-Jan-Mar-2026-Flyer-EN.png
ORGANIZER;CN="Iris%20Mak":MAILTO:imak@tccsa.org
END:VEVENT
END:VCALENDAR