BEGIN:VCALENDAR
VERSION:2.0
PRODID:-//TCCSA - ECPv5.1.5//NONSGML v1.0//EN
CALSCALE:GREGORIAN
METHOD:PUBLISH
X-WR-CALNAME:TCCSA
X-ORIGINAL-URL:https://tccsa.on.ca
X-WR-CALDESC:Events for TCCSA
BEGIN:VTIMEZONE
TZID:America/New_York
BEGIN:DAYLIGHT
TZOFFSETFROM:-0500
TZOFFSETTO:-0400
TZNAME:EDT
DTSTART:20250309T070000
END:DAYLIGHT
BEGIN:STANDARD
TZOFFSETFROM:-0400
TZOFFSETTO:-0500
TZNAME:EST
DTSTART:20251102T060000
END:STANDARD
END:VTIMEZONE
BEGIN:VEVENT
DTSTART;TZID=America/New_York:20251101T113000
DTEND;TZID=America/New_York:20251101T123000
DTSTAMP:20260421T183002
CREATED:20251010T144600Z
LAST-MODIFIED:20251014T195548Z
UID:27877-1761996600-1762000200@tccsa.on.ca
SUMMARY:Chinese Calligraphy for Adults – Ink & Wisdom
DESCRIPTION: \n
URL:https://tccsa.on.ca/event/chinese-calligraphy-for-adults-ink-wisdom/
LOCATION:TCCSA York Centre\, Metro Square\, 3636 Steeles Avenue East\, Unit 213A\, Markham\, Ontario\, L3R 1K9\, Canada
CATEGORIES:Self-enhancement Learning Centre
ATTACH;FMTTYPE=image/jpeg:https://tccsa.on.ca/wp-content/uploads/2025/10/Ink-Wisdom-Flyer_Page_1.jpg
END:VEVENT
END:VCALENDAR