BEGIN:VCALENDAR
VERSION:2.0
PRODID:-//TCCSA - ECPv5.1.5//NONSGML v1.0//EN
CALSCALE:GREGORIAN
METHOD:PUBLISH
X-WR-CALNAME:TCCSA
X-ORIGINAL-URL:https://tccsa.on.ca
X-WR-CALDESC:Events for TCCSA
BEGIN:VTIMEZONE
TZID:America/New_York
BEGIN:DAYLIGHT
TZOFFSETFROM:-0500
TZOFFSETTO:-0400
TZNAME:EDT
DTSTART:20250309T070000
END:DAYLIGHT
BEGIN:STANDARD
TZOFFSETFROM:-0400
TZOFFSETTO:-0500
TZNAME:EST
DTSTART:20251102T060000
END:STANDARD
END:VTIMEZONE
BEGIN:VEVENT
DTSTART;TZID=America/New_York:20251128T103000
DTEND;TZID=America/New_York:20251128T120000
DTSTAMP:20260421T121108
CREATED:20251125T215451Z
LAST-MODIFIED:20251125T215451Z
UID:28737-1764325800-1764331200@tccsa.on.ca
SUMMARY:Chat & Connect (Fridays\, October 31- December 19 \, 2025)
DESCRIPTION:chat & connect _flyer  \n
URL:https://tccsa.on.ca/event/chat-connect-fridays-october-31-december-19-2025/2025-11-28/
LOCATION:Miliken Mills Community Centre\, 7600 Kennedy Road\, Markham\, Ontario\, L3R9S5\, Canada
CATEGORIES:York Centre
ATTACH;FMTTYPE=image/jpeg:https://tccsa.on.ca/wp-content/uploads/2025/11/chat-connect-_flyer.jpg
END:VEVENT
END:VCALENDAR