BEGIN:VCALENDAR
VERSION:2.0
PRODID:-//TCCSA - ECPv5.1.5//NONSGML v1.0//EN
CALSCALE:GREGORIAN
METHOD:PUBLISH
X-WR-CALNAME:TCCSA
X-ORIGINAL-URL:https://tccsa.on.ca
X-WR-CALDESC:Events for TCCSA
BEGIN:VTIMEZONE
TZID:America/New_York
BEGIN:DAYLIGHT
TZOFFSETFROM:-0500
TZOFFSETTO:-0400
TZNAME:EDT
DTSTART:20250309T070000
END:DAYLIGHT
BEGIN:STANDARD
TZOFFSETFROM:-0400
TZOFFSETTO:-0500
TZNAME:EST
DTSTART:20251102T060000
END:STANDARD
END:VTIMEZONE
BEGIN:VEVENT
DTSTART;TZID=America/New_York:20251019T110000
DTEND;TZID=America/New_York:20251019T140000
DTSTAMP:20260421T132312
CREATED:20250922T201649Z
LAST-MODIFIED:20251015T201803Z
UID:27577-1760871600-1760882400@tccsa.on.ca
SUMMARY:Brunch & Learn - Planning Your Legacy in Canada
DESCRIPTION: \n
URL:https://tccsa.on.ca/event/brunch-learn-planning-your-legacy-in-canada/
CATEGORIES:Toronto Centre,York Centre
END:VEVENT
END:VCALENDAR