BEGIN:VCALENDAR
VERSION:2.0
PRODID:-//TCCSA - ECPv5.1.5//NONSGML v1.0//EN
CALSCALE:GREGORIAN
METHOD:PUBLISH
X-WR-CALNAME:TCCSA
X-ORIGINAL-URL:https://tccsa.on.ca
X-WR-CALDESC:Events for TCCSA
BEGIN:VTIMEZONE
TZID:America/New_York
BEGIN:DAYLIGHT
TZOFFSETFROM:-0500
TZOFFSETTO:-0400
TZNAME:EDT
DTSTART:20250309T070000
END:DAYLIGHT
BEGIN:STANDARD
TZOFFSETFROM:-0400
TZOFFSETTO:-0500
TZNAME:EST
DTSTART:20251102T060000
END:STANDARD
END:VTIMEZONE
BEGIN:VEVENT
DTSTART;TZID=America/New_York:20251021T100000
DTEND;TZID=America/New_York:20251021T120000
DTSTAMP:20260421T122502
CREATED:20250922T194239Z
LAST-MODIFIED:20250922T194239Z
UID:28059-1761040800-1761048000@tccsa.on.ca
SUMMARY:Art Care A Gentle Journey
DESCRIPTION: \n
URL:https://tccsa.on.ca/event/art-care-a-gentle-journey/2025-10-21/
LOCATION:TCCSA York Centre\, Metro Square\, 3636 Steeles Avenue East\, Unit 213A\, Markham\, Ontario\, L3R 1K9\, Canada
CATEGORIES:York Centre
ORGANIZER;CN="Sisy%20Yao":MAILTO:syao@tccsa.org
END:VEVENT
END:VCALENDAR