BEGIN:VCALENDAR
VERSION:2.0
PRODID:-//TCCSA - ECPv5.1.5//NONSGML v1.0//EN
CALSCALE:GREGORIAN
METHOD:PUBLISH
X-WR-CALNAME:TCCSA
X-ORIGINAL-URL:https://tccsa.on.ca
X-WR-CALDESC:Events for TCCSA
BEGIN:VTIMEZONE
TZID:America/New_York
BEGIN:DAYLIGHT
TZOFFSETFROM:-0500
TZOFFSETTO:-0400
TZNAME:EDT
DTSTART:20220313T070000
END:DAYLIGHT
BEGIN:STANDARD
TZOFFSETFROM:-0400
TZOFFSETTO:-0500
TZNAME:EST
DTSTART:20221106T060000
END:STANDARD
END:VTIMEZONE
BEGIN:VEVENT
DTSTART;TZID=America/New_York:20220216T160000
DTEND;TZID=America/New_York:20220216T170000
DTSTAMP:20260421T101958
CREATED:20220125T185123Z
LAST-MODIFIED:20220127T221218Z
UID:15123-1645027200-1645030800@tccsa.on.ca
SUMMARY:Be a leader with us
DESCRIPTION:  \n \n
URL:https://tccsa.on.ca/event/15123/2022-02-16/
LOCATION:Online
CATEGORIES:Community Services
END:VEVENT
END:VCALENDAR